BEGIN:VCALENDAR
VERSION:2.0
PRODID:-//Vaikų stovyklos 🏕 - ECPv6.15.20//NONSGML v1.0//EN
CALSCALE:GREGORIAN
METHOD:PUBLISH
X-WR-CALNAME:Vaikų stovyklos 🏕
X-ORIGINAL-URL:https://patirk.com
X-WR-CALDESC:Vaikų stovyklos 🏕 renginiai
REFRESH-INTERVAL;VALUE=DURATION:PT1H
X-Robots-Tag:noindex
X-PUBLISHED-TTL:PT1H
BEGIN:VTIMEZONE
TZID:UTC
BEGIN:STANDARD
TZOFFSETFROM:+0000
TZOFFSETTO:+0000
TZNAME:UTC
DTSTART:20240101T000000
END:STANDARD
END:VTIMEZONE
BEGIN:VEVENT
DTSTART;VALUE=DATE:20250706
DTEND;VALUE=DATE:20250713
DTSTAMP:20260424T112303
CREATED:20250102T190258Z
LAST-MODIFIED:20260104T120222Z
UID:8123-1751760000-1752364799@patirk.com
SUMMARY:„PATIRK” JŪRŲ SKAUTAI NESKAUTAMS 2025.07.06-12
DESCRIPTION:[vc_row][vc_column]Ši stovykla vyko 2025 metais. Žiūrėkite 2026 metų stovyklasVaikų vasaros stovyklos 2026[/vc_column][/vc_row][vc_row][vc_column][vc_column_text]“Jūrų skautai neskautams” stovykla – tai savaitės nuotykis ir susipažinimas su jūrų skautais. Jūrų skautai išsiskiria savo tradicijomis\, programa ir patirtimi vandenyje. Mūsų stovyklose be bazinių skautiškų žinių\, vaikus ruošiame saugiam susitikimui su vandeniu: susipažįstame su įvairiomis gelbėjimosi priemonėmis\, plaustais ir baidarėmis. Naudodami jau daugiau nei 100 metų gyvuojančią skautų metodiką bei patirtį vandenyje\, žingsnis po žingsnio plečiame vaikų komforto ribas ir patyrimą. Vaikai įgyja daugiau pasitikėjimo savimi ir savarankiškėja. Stovyklose kartu su 12-15 vaikų grupele visur dalyvauja bent vienas patyręs jūrų skautų vadovas. Programos metu mokysimės statyti skautiškus įrenginius iš medžio ir virvių\, įsirengsime pastovykles. Turėsime linksmus ir įdomius skautiškus mokymus: kaip užkurti laužą ir pasigaminti valgį\, saugiai naudoti peilį\, suteikti pirmąją pagalbą ir nepasimesti kritinėse situacijose\, kaip saugiai elgtis vandenyje\, prisipūsti ir saugiai plaukti plaustu\, orientuotis ir nepasimesti gamtoje. Visą įgytą patirtį pritaikysime praktiškai. Mūsų laukia dienos žygiai vandeniu ir sausuma\, maisto gamyba lauko sąlygomis\, šaudymas iš lankų\, išgyvenimas gamtoje\, orientavimasis gamtoje\, mazgų rišimas\, baidarių\, kanojų\, Vikingų valties\, irklenčių irklavimas ir kt.. Tai kupinas nuotykių skautiškas pasaulis\, su tradicijomis\, strateginiais ir komandiniais žaidimais\, vakarine programa prie laužo ir kitomis skautiškomis staigmenomis. Į šią kupiną nuotykių ir patirčių savaitę kviečiame ir tave!\n[/vc_column_text][/vc_column][/vc_row][vc_row][vc_column][vc_empty_space hide_on_desktop=”” hide_on_notebook=”” hide_on_tablet=”” hide_on_mobile=””][vc_media_grid element_width=”3″ item=”masonryMedia_SimpleBlurWithScale” grid_id=”vc_gid:1767527864153-d4ea233f-4660-7″ include=”5753\,10824\,6069\,10825″][vc_empty_space hide_on_desktop=”” hide_on_notebook=”” hide_on_tablet=”” hide_on_mobile=””][/vc_column][/vc_row][vc_row][vc_column][vc_column_text] \nSTOVYKLOS DIENOTVARKĖ IR PROGRAMA \n\n\n\n\n08:00 – Keliamės\, mankšta\, prausimasis\n08:45 – Rytinis veiklų aptarimas\, skautiška rikiuotė\n09:00 – Pusryčiai\n10:00 – RYTINĖ PROGRAMA: Šaudymas iš lanko\, Susipažinimas su skautų tradicijomis\, komandos formavimas\, orientavimasis gamtoje\, žygiai pėsčiomis su užduotimis\, išgyvenimo gamtoje praktikos\, aštrių įrankių saugus naudojimas\, inžinerinės užduotys.\n13:00 – Pietūs\, poilsis\, laikas grupelėse\, maudymasis\n15:00 – POPIETINĖ PROGRAMA: vandens programa tvenkinyje\, vandens žygiai\, lankininkų kovos\, edukacinės programos\, kliūčių ruožai ir komandų iššūkiai\, dėžių bokšto lipimas\, alpinizmo trasos\, kūrybinės dirbtuvės ir pasiruošimas vakaro programai.\n18:00 – Vakarienė\, poilsis\, pasiruošimas vakaro programai\n20:00 – VAKARINĖ PROGRAMA: teminiai vakarai: vaidinimai\, talentų šou\, stovyklos viktorinos\, skautiško vakaro programa prie laužo su dainomis\, gitara ir pasakojimais\, strateginiai visos stovyklos žaidimai\, kino vakaras.\n22:00 – Naktipiečiai\, dienos aptarimas prie laužo\, pasiruošimas miegui\n23:00 – Tyla\n\n\n\nProgramos metu vaikai turės galimybę įveikti asmeninius ir komandinius iššūkius. Veiklų metu vaikai mokysis ne tik teisingai atlikti tam tikrus veiksmus\, bet ir saugiai visa tai daryti.\n\n\n\n\nSTOVYKLOS VADOVAI IR ŠTABAS \n\n\nStovyklos vadovai – tai atsakingi ir kvalifikuoti specialistai\, kurie rūpinasi vaikų saugumu\, gerove ir veiklomis visos stovyklos metu. Kiekvienas vadovas dirba su 12-15 vaikų grupe\, todėl gali užtikrinti individualų dėmesį ir kurti draugišką\, palaikančią aplinką\, pastebėti ir atliepti vaikų poreikius\, spręsti iškylančias buitines ir socialines problemas. Visi vadovai yra išklausę specializuotus kursus\, tokius kaip turistinių renginių\, pirmos pagalbos ir higienos mokymai\, kurie garantuoja\, kad jie sugeba spręsti įvairias situacijas ir užtikrina vaikų saugumą.\nStovyklos štabas – užtikrina sklandų stovyklos darbą ir koordinuoja visas veiklas\, kad stovykla būtų saugi ir įdomi tiek vaikams\, tiek vadovams. Stovyklos štabą dažniausiai sudaro šie asmenys: Viršininkas\, programos vadovas\, ūkvedys\, maisto gaminimo komanda.\nSavanoriai – Stovyklos savanoriai padeda užtikrinti\, kad visi procesai vyktų sklandžiai. Kai kurie iš jų dirba kartu su vadovais\, padeda organizuoti veiklas\, rūpinasi vaikų užimtumu. Savanoriai dažnai yra jauni žmonės\, dalyvavę stovyklose\, praėję specialius mokymus\, siekiantys įgyti patirties dirbdami su vaikais ar organizuojant stovyklas.\nDidžioji stovyklos vadovų ir štabo dalis yra pedagogai dirbantys mokyklose arba didelę patirtį turintys neformalaus ugdymo veiklų bei stovyklų organizatoriai.\nStovyklos vadovai ir savanoriai yra jūrų skautai.\n\nĮ STOVYKLOS KELIALAPIO KAINĄ ĮSKAIČIUOTA: \n\n\n\n\nStovyklos programa bei ugdomieji patyriminiai užsiėmimai\nProfesionalūs grupių vadovai ir savanoriai atskiroms 12-15 vaikų grupėms\nMaitinimas 4 kartus per dieną visos stovyklos metu\nStovyklavietė pušyne su savo infrastruktūra: elektra\, dušai su šiltu vandeniu\, tualetai\, didelis pastatas stovyklos programai ar pasislėpimui nuo lietaus\, virtuvė\, valgymo erdvė\, programinės palapinės „Tipis”\, žaidimų bei aktyvių veiklų erdvės\, tvenkinys\, tinklinio aikštelė\, pavėsinė\, šalia teka upė “Nemunas”.\nStovyklos programa bei inventorius: baidarės\, kanojos\, irklentės\, saugaus plaukiojimo priemonės\, alpinizmo inventorius\, išgyvenimo gamtoje priemonės\, šaudymo iš lankų inventorius\, komandos formavimo priemonės ir kt.\nPrizai ir dovanos vaikams\nTransportavimas stovyklos programos metu\nMedicinos ir pirmosios pagalbos priemonės visos stovyklos metu\n\n\n\n\n\n\n[/vc_column_text][/vc_column][/vc_row][vc_row][vc_column][vc_media_grid element_width=”3″ item=”masonryMedia_SimpleBlurWithScale” grid_id=”vc_gid:1767527864154-5f77477d-7d66-5″ include=”8172\,8165\,8171\,8166″][vc_empty_space hide_on_desktop=”” hide_on_notebook=”” hide_on_tablet=”” hide_on_mobile=””][/vc_column][/vc_row][vc_row][vc_column][vc_column_text] \n\nĮ STOVYKLOS KELIALAPIO KAINĄ NEĮSKAIČIUOTA: \n\n\nAsmeninis stovyklavimo inventorius: Miegmaišis\, kilimėlis\, palapinė (yra galimybė išsinuomoti)\nAtvežimas/parvežimas.\nStovyklautojas turi atsivežti asmeninius indus (plastikinius arba metalinius) ir įrankius.\nKodėl svarbu\, kad vaikai į stovyklą atsivežtų savo indus ir įrankius? Vienas iš mūsų stovyklos tikslų – ugdyti vaikų savarankiškumą ir atsakomybę. Atsivežę savo indus (lėkštę\, puodelį\, šaukštą ir šakutę)\, vaikai mokosi pasirūpinti asmeniniais daiktais: juos saugoti\, nepalikti bet kur\, po valgio išsiplauti ir vėl pasiruošti kitam kartui.\nŠis\, atrodytų\, paprastas įprotis – svarbi gyvenimo pamoka. Jis moko: atsakomybės\, tvarkos ir higienos\, savarankiškumo. \n\n\n\nKITA SVARBI INFORMACIJA \n\n\nUžsiregistravus su dalyvio tėvais pasirašoma sutartis\, taip pat reikalinga vaiko sveikatos pažyma ir tėvų sutikimas. Šiuos dokumentus atsiųsime el. paštu kiekvienam užsiregistravusiam šiek tiek vėliau.\nJei jūsų vaikas nori dalyvauti\, bet yra jaunesnis negu 8 metai ar vyresnis negu 16 metų\, susisiekite su mumis.\nRegistracija vyksta 2 etapais: 1. registracijos formos užpildymas (Išsiunčiamas laiškas el. paštu\, kad registracija sėkmingai priimta) 2. dalyvio mokesčio sumokėjimas (dalyvio mokestis mokamas po laiško el. paštu atsiuntimo su reikalingais dokumentais).\n\n\n  Vieta: Birštono sav.\, Trakeliai\n  Data: 2025 liepos 6 – 12 d.\n   Dalyvių amžius: nuo 8 iki 16 metų\n\n  Kaina: 315 Eur. \n\n                      300 Eur. – registruojant grupę (4 ir daugiau)\n                     290 Eur. – 2 ir daugiau vaikų iš vienos šeimos \n\n\n\n\n\n\n\n[/vc_column_text][/vc_column][/vc_row][vc_row][vc_column][vc_btn title=”REGISTRACIJA UŽDARYTA” color=”danger” align=”left”][/vc_column][/vc_row][vc_row][vc_column][vc_column_text][/vc_column_text][/vc_column][/vc_row][vc_row][vc_column][vc_column_text] \n[/vc_column_text][/vc_column][/vc_row][vc_row][vc_column][vc_column_text] \n[/vc_column_text][/vc_column][/vc_row]
URL:https://patirk.com/stovykla/patirk-juru-skautai-neskautams-2025-07-06-12/
LOCATION:Vaikų vasaros stovykla\, Birštono savivaldybė\, Trakeliai\, Lietuva
CATEGORIES:Vaikų stovyklos
ATTACH;FMTTYPE=image/png:https://patirk.com/wp-content/uploads/2024/12/Patirk-vaiku-vasaros-stovykla-skautai-neskautams.png
END:VEVENT
END:VCALENDAR